BEGIN:VCALENDAR
VERSION:2.0
PRODID:-//Deep Search MDC - ECPv6.15.17.1//NONSGML v1.0//EN
CALSCALE:GREGORIAN
METHOD:PUBLISH
X-WR-CALNAME:Deep Search MDC
X-ORIGINAL-URL:https://www.deepsearchmdc.com
X-WR-CALDESC:Events for Deep Search MDC
REFRESH-INTERVAL;VALUE=DURATION:PT1H
X-Robots-Tag:noindex
X-PUBLISHED-TTL:PT1H
BEGIN:VTIMEZONE
TZID:America/New_York
BEGIN:DAYLIGHT
TZOFFSETFROM:-0500
TZOFFSETTO:-0400
TZNAME:EDT
DTSTART:20190310T070000
END:DAYLIGHT
BEGIN:STANDARD
TZOFFSETFROM:-0400
TZOFFSETTO:-0500
TZNAME:EST
DTSTART:20191103T060000
END:STANDARD
BEGIN:DAYLIGHT
TZOFFSETFROM:-0500
TZOFFSETTO:-0400
TZNAME:EDT
DTSTART:20200308T070000
END:DAYLIGHT
BEGIN:STANDARD
TZOFFSETFROM:-0400
TZOFFSETTO:-0500
TZNAME:EST
DTSTART:20201101T060000
END:STANDARD
BEGIN:DAYLIGHT
TZOFFSETFROM:-0500
TZOFFSETTO:-0400
TZNAME:EDT
DTSTART:20210314T070000
END:DAYLIGHT
BEGIN:STANDARD
TZOFFSETFROM:-0400
TZOFFSETTO:-0500
TZNAME:EST
DTSTART:20211107T060000
END:STANDARD
BEGIN:DAYLIGHT
TZOFFSETFROM:-0500
TZOFFSETTO:-0400
TZNAME:EDT
DTSTART:20220313T070000
END:DAYLIGHT
BEGIN:STANDARD
TZOFFSETFROM:-0400
TZOFFSETTO:-0500
TZNAME:EST
DTSTART:20221106T060000
END:STANDARD
BEGIN:DAYLIGHT
TZOFFSETFROM:-0500
TZOFFSETTO:-0400
TZNAME:EDT
DTSTART:20230312T070000
END:DAYLIGHT
BEGIN:STANDARD
TZOFFSETFROM:-0400
TZOFFSETTO:-0500
TZNAME:EST
DTSTART:20231105T060000
END:STANDARD
BEGIN:DAYLIGHT
TZOFFSETFROM:-0500
TZOFFSETTO:-0400
TZNAME:EDT
DTSTART:20240310T070000
END:DAYLIGHT
BEGIN:STANDARD
TZOFFSETFROM:-0400
TZOFFSETTO:-0500
TZNAME:EST
DTSTART:20241103T060000
END:STANDARD
BEGIN:DAYLIGHT
TZOFFSETFROM:-0500
TZOFFSETTO:-0400
TZNAME:EDT
DTSTART:20250309T070000
END:DAYLIGHT
BEGIN:STANDARD
TZOFFSETFROM:-0400
TZOFFSETTO:-0500
TZNAME:EST
DTSTART:20251102T060000
END:STANDARD
BEGIN:DAYLIGHT
TZOFFSETFROM:-0500
TZOFFSETTO:-0400
TZNAME:EDT
DTSTART:20260308T070000
END:DAYLIGHT
BEGIN:STANDARD
TZOFFSETFROM:-0400
TZOFFSETTO:-0500
TZNAME:EST
DTSTART:20261101T060000
END:STANDARD
BEGIN:DAYLIGHT
TZOFFSETFROM:-0500
TZOFFSETTO:-0400
TZNAME:EDT
DTSTART:20270314T070000
END:DAYLIGHT
BEGIN:STANDARD
TZOFFSETFROM:-0400
TZOFFSETTO:-0500
TZNAME:EST
DTSTART:20271107T060000
END:STANDARD
END:VTIMEZONE
BEGIN:VEVENT
DTSTART;TZID=America/New_York:20260413T190000
DTEND;TZID=America/New_York:20260413T210000
DTSTAMP:20260422T065141
CREATED:20210106T215510Z
LAST-MODIFIED:20251012T193625Z
UID:98-1776106800-1776114000@www.deepsearchmdc.com
SUMMARY:Monthly Meeting
DESCRIPTION:
URL:https://www.deepsearchmdc.com/event/monthly-meeting-apr/
LOCATION:Edison Emergency Medical Services\, Clara Barton Station\, 1079 Amboy Ave\, Edison\, NJ\, 08837\, United States
CATEGORIES:Monthly Meeting
END:VEVENT
BEGIN:VEVENT
DTSTART;TZID=America/New_York:20260309T190000
DTEND;TZID=America/New_York:20260309T210000
DTSTAMP:20260422T065141
CREATED:20210106T215404Z
LAST-MODIFIED:20251012T194104Z
UID:96-1773082800-1773090000@www.deepsearchmdc.com
SUMMARY:Monthly Meeting
DESCRIPTION:
URL:https://www.deepsearchmdc.com/event/monthly-meeting-mar/
LOCATION:Edison Emergency Medical Services\, Clara Barton Station\, 1079 Amboy Ave\, Edison\, NJ\, 08837\, United States
CATEGORIES:Monthly Meeting
END:VEVENT
BEGIN:VEVENT
DTSTART;TZID=America/New_York:20260209T190000
DTEND;TZID=America/New_York:20260209T210000
DTSTAMP:20260422T065141
CREATED:20210106T215254Z
LAST-MODIFIED:20251012T194137Z
UID:94-1770663600-1770670800@www.deepsearchmdc.com
SUMMARY:Monthly Meeting
DESCRIPTION:
URL:https://www.deepsearchmdc.com/event/monthly-meeting-feb/
LOCATION:Edison Emergency Medical Services\, Clara Barton Station\, 1079 Amboy Ave\, Edison\, NJ\, 08837\, United States
CATEGORIES:Monthly Meeting
END:VEVENT
BEGIN:VEVENT
DTSTART;TZID=America/New_York:20260112T190000
DTEND;TZID=America/New_York:20260112T210000
DTSTAMP:20260422T065141
CREATED:20210106T215058Z
LAST-MODIFIED:20251012T193429Z
UID:92-1768244400-1768251600@www.deepsearchmdc.com
SUMMARY:Monthly Meeting
DESCRIPTION:
URL:https://www.deepsearchmdc.com/event/monthly-meeting-jan/
LOCATION:Edison Emergency Medical Services\, Clara Barton Station\, 1079 Amboy Ave\, Edison\, NJ\, 08837\, United States
CATEGORIES:Monthly Meeting
END:VEVENT
BEGIN:VEVENT
DTSTART;TZID=America/New_York:20251208T183000
DTEND;TZID=America/New_York:20251208T210000
DTSTAMP:20260422T065141
CREATED:20210106T220204Z
LAST-MODIFIED:20251102T231555Z
UID:114-1765218600-1765227600@www.deepsearchmdc.com
SUMMARY:Monthly Meeting & Holiday Dinner
DESCRIPTION:Embedded is a copy of the DSMDC 2025 Holiday Party flyer. Please print\, complete and mail along with payment or pay using a credit card at https://dsmdc.square.site/s/shop \n  \nDSMDC Holiday mtg flyer \n 
URL:https://www.deepsearchmdc.com/event/monthly-meeting-dec/
LOCATION:Edison Emergency Medical Services\, Clara Barton Station\, 1079 Amboy Ave\, Edison\, NJ\, 08837\, United States
CATEGORIES:Monthly Meeting
END:VEVENT
BEGIN:VEVENT
DTSTART;TZID=America/New_York:20251110T190000
DTEND;TZID=America/New_York:20251110T210000
DTSTAMP:20260422T065141
CREATED:20210106T220120Z
LAST-MODIFIED:20250312T215532Z
UID:112-1762801200-1762808400@www.deepsearchmdc.com
SUMMARY:Monthly Meeting
DESCRIPTION:
URL:https://www.deepsearchmdc.com/event/monthly-meeting-nov/
LOCATION:Edison Emergency Medical Services\, Clara Barton Station\, 1079 Amboy Ave\, Edison\, NJ\, 08837\, United States
CATEGORIES:Monthly Meeting
END:VEVENT
BEGIN:VEVENT
DTSTART;TZID=America/New_York:20251013T190000
DTEND;TZID=America/New_York:20251013T210000
DTSTAMP:20260422T065141
CREATED:20210106T220035Z
LAST-MODIFIED:20250312T215447Z
UID:110-1760382000-1760389200@www.deepsearchmdc.com
SUMMARY:Monthly Meeting
DESCRIPTION:
URL:https://www.deepsearchmdc.com/event/monthly-meeting-oct/
LOCATION:Edison Emergency Medical Services\, Clara Barton Station\, 1079 Amboy Ave\, Edison\, NJ\, 08837\, United States
CATEGORIES:Monthly Meeting
END:VEVENT
BEGIN:VEVENT
DTSTART;TZID=America/New_York:20201214T190000
DTEND;TZID=America/New_York:20201214T210000
DTSTAMP:20260422T065141
CREATED:20200614T174305Z
LAST-MODIFIED:20200614T174305Z
UID:50-1607972400-1607979600@www.deepsearchmdc.com
SUMMARY:Monthly Meeting - December
DESCRIPTION:Our meetings are held at the Minnie B. Veal Community Center\, 1070 Grove Ave.\, Edison\, NJ. From 7:00 p.m. to 9:00 p.m  Members and guests may arrive as early as 6:30 p.m. This will give everyone time to socialize\, so we can start on time.
URL:https://www.deepsearchmdc.com/event/monthly-meeting-december/
LOCATION:Minnie B. Veal Community Center\, 1070 Grove Ave\, Edison\, NJ\, 08820\, United States
CATEGORIES:Monthly Meeting
END:VEVENT
BEGIN:VEVENT
DTSTART;TZID=America/New_York:20201116T190000
DTEND;TZID=America/New_York:20201116T210000
DTSTAMP:20260422T065141
CREATED:20200614T174237Z
LAST-MODIFIED:20200614T174237Z
UID:48-1605553200-1605560400@www.deepsearchmdc.com
SUMMARY:Monthly Meeting - November
DESCRIPTION:Our meetings are held at the Minnie B. Veal Community Center\, 1070 Grove Ave.\, Edison\, NJ. From 7:00 p.m. to 9:00 p.m  Members and guests may arrive as early as 6:30 p.m. This will give everyone time to socialize\, so we can start on time.
URL:https://www.deepsearchmdc.com/event/monthly-meeting-november/
LOCATION:Minnie B. Veal Community Center\, 1070 Grove Ave\, Edison\, NJ\, 08820\, United States
CATEGORIES:Monthly Meeting
END:VEVENT
BEGIN:VEVENT
DTSTART;TZID=America/New_York:20201019T190000
DTEND;TZID=America/New_York:20201019T210000
DTSTAMP:20260422T065141
CREATED:20200614T174209Z
LAST-MODIFIED:20200614T174209Z
UID:46-1603134000-1603141200@www.deepsearchmdc.com
SUMMARY:Monthly Meeting - October
DESCRIPTION:Our meetings are held at the Minnie B. Veal Community Center\, 1070 Grove Ave.\, Edison\, NJ. From 7:00 p.m. to 9:00 p.m  Members and guests may arrive as early as 6:30 p.m. This will give everyone time to socialize\, so we can start on time.
URL:https://www.deepsearchmdc.com/event/monthly-meeting-october/
LOCATION:Minnie B. Veal Community Center\, 1070 Grove Ave\, Edison\, NJ\, 08820\, United States
CATEGORIES:Monthly Meeting
END:VEVENT
BEGIN:VEVENT
DTSTART;TZID=America/New_York:20200914T190000
DTEND;TZID=America/New_York:20200914T210000
DTSTAMP:20260422T065141
CREATED:20200614T174127Z
LAST-MODIFIED:20200614T174127Z
UID:44-1600110000-1600117200@www.deepsearchmdc.com
SUMMARY:Monthly Meeting - September
DESCRIPTION:Our meetings are held at the Minnie B. Veal Community Center\, 1070 Grove Ave.\, Edison\, NJ. From 7:00 p.m. to 9:00 p.m  Members and guests may arrive as early as 6:30 p.m. This will give everyone time to socialize\, so we can start on time.
URL:https://www.deepsearchmdc.com/event/monthly-meeting-september/
LOCATION:Minnie B. Veal Community Center\, 1070 Grove Ave\, Edison\, NJ\, 08820\, United States
CATEGORIES:Monthly Meeting
END:VEVENT
BEGIN:VEVENT
DTSTART;TZID=America/New_York:20200810T190000
DTEND;TZID=America/New_York:20200810T210000
DTSTAMP:20260422T065141
CREATED:20200614T174028Z
LAST-MODIFIED:20230807T005350Z
UID:42-1597086000-1597093200@www.deepsearchmdc.com
SUMMARY:Monthly Meeting - August
DESCRIPTION:Our meetings are held at the Minnie B. Veal Community Center\, 1070 Grove Ave.\, Edison\, NJ. From 7:00 p.m. to 9:00 p.m  Members and guests may arrive as early as 6:30 p.m. This will give everyone time to socialize\, so we can start on time.
URL:https://www.deepsearchmdc.com/event/monthly-meeting-august/
LOCATION:Minnie B. Veal Community Center\, 1070 Grove Ave\, Edison\, NJ\, 08820\, United States
CATEGORIES:Monthly Meeting
END:VEVENT
BEGIN:VEVENT
DTSTART;TZID=America/New_York:20200713T190000
DTEND;TZID=America/New_York:20200713T210000
DTSTAMP:20260422T065141
CREATED:20200614T173102Z
LAST-MODIFIED:20200614T174045Z
UID:39-1594666800-1594674000@www.deepsearchmdc.com
SUMMARY:Monthly Meeting - July
DESCRIPTION:Our meetings are held at the Minnie B. Veal Community Center\, 1070 Grove Ave.\, Edison\, NJ. From 7:00 p.m. to 9:00 p.m  Members and guests may arrive as early as 6:30 p.m. This will give everyone time to socialize\, so we can start on time.
URL:https://www.deepsearchmdc.com/event/monthly-meeting-july/
LOCATION:Minnie B. Veal Community Center\, 1070 Grove Ave\, Edison\, NJ\, 08820\, United States
CATEGORIES:Monthly Meeting
END:VEVENT
END:VCALENDAR