BEGIN:VCALENDAR
VERSION:2.0
PRODID:-//Deep Search MDC - ECPv6.15.17.1//NONSGML v1.0//EN
CALSCALE:GREGORIAN
METHOD:PUBLISH
X-ORIGINAL-URL:https://www.deepsearchmdc.com
X-WR-CALDESC:Events for Deep Search MDC
REFRESH-INTERVAL;VALUE=DURATION:PT1H
X-Robots-Tag:noindex
X-PUBLISHED-TTL:PT1H
BEGIN:VTIMEZONE
TZID:America/New_York
BEGIN:DAYLIGHT
TZOFFSETFROM:-0500
TZOFFSETTO:-0400
TZNAME:EDT
DTSTART:20200308T070000
END:DAYLIGHT
BEGIN:STANDARD
TZOFFSETFROM:-0400
TZOFFSETTO:-0500
TZNAME:EST
DTSTART:20201101T060000
END:STANDARD
BEGIN:DAYLIGHT
TZOFFSETFROM:-0500
TZOFFSETTO:-0400
TZNAME:EDT
DTSTART:20210314T070000
END:DAYLIGHT
BEGIN:STANDARD
TZOFFSETFROM:-0400
TZOFFSETTO:-0500
TZNAME:EST
DTSTART:20211107T060000
END:STANDARD
BEGIN:DAYLIGHT
TZOFFSETFROM:-0500
TZOFFSETTO:-0400
TZNAME:EDT
DTSTART:20220313T070000
END:DAYLIGHT
BEGIN:STANDARD
TZOFFSETFROM:-0400
TZOFFSETTO:-0500
TZNAME:EST
DTSTART:20221106T060000
END:STANDARD
END:VTIMEZONE
BEGIN:VEVENT
DTSTART;VALUE=DATE:20210417
DTEND;VALUE=DATE:20210419
DTSTAMP:20260423T122809
CREATED:20210106T220957Z
LAST-MODIFIED:20210114T014814Z
UID:116-1618617600-1618790399@www.deepsearchmdc.com
SUMMARY:The Big Deal! Hunt
DESCRIPTION:Two day event hosted by Deep Search MDC\, ECRDA & SIHH \nClick here for hunt details & registration form.
URL:https://www.deepsearchmdc.com/event/the-big-deal-hunt/
LOCATION:W. Stanley Conover Beach Pavilion\, Philips Ave\, Deal\, NJ\, 07723\, United States
CATEGORIES:Detecting Events
END:VEVENT
END:VCALENDAR